BEGIN:VCALENDAR
VERSION:2.0
PRODID:-//Budakeszi járás Egészségfejlesztési Iroda - ECPv6.15.16//NONSGML v1.0//EN
CALSCALE:GREGORIAN
METHOD:PUBLISH
X-ORIGINAL-URL:https://efi.biatorbagy.hu
X-WR-CALDESC:Események Budakeszi járás Egészségfejlesztési Iroda
REFRESH-INTERVAL;VALUE=DURATION:PT1H
X-Robots-Tag:noindex
X-PUBLISHED-TTL:PT1H
BEGIN:VTIMEZONE
TZID:Europe/Budapest
BEGIN:DAYLIGHT
TZOFFSETFROM:+0100
TZOFFSETTO:+0200
TZNAME:CEST
DTSTART:20180325T010000
END:DAYLIGHT
BEGIN:STANDARD
TZOFFSETFROM:+0200
TZOFFSETTO:+0100
TZNAME:CET
DTSTART:20181028T010000
END:STANDARD
BEGIN:DAYLIGHT
TZOFFSETFROM:+0100
TZOFFSETTO:+0200
TZNAME:CEST
DTSTART:20190331T010000
END:DAYLIGHT
BEGIN:STANDARD
TZOFFSETFROM:+0200
TZOFFSETTO:+0100
TZNAME:CET
DTSTART:20191027T010000
END:STANDARD
BEGIN:DAYLIGHT
TZOFFSETFROM:+0100
TZOFFSETTO:+0200
TZNAME:CEST
DTSTART:20200329T010000
END:DAYLIGHT
BEGIN:STANDARD
TZOFFSETFROM:+0200
TZOFFSETTO:+0100
TZNAME:CET
DTSTART:20201025T010000
END:STANDARD
END:VTIMEZONE
BEGIN:VEVENT
DTSTART;TZID=Europe/Budapest:20190322T090000
DTEND;TZID=Europe/Budapest:20190322T120000
DTSTAMP:20260421T093448
CREATED:20190224T142724Z
LAST-MODIFIED:20190224T142724Z
UID:864-1553245200-1553256000@efi.biatorbagy.hu
SUMMARY:Víz világnapja
DESCRIPTION:
URL:https://efi.biatorbagy.hu/esemeny/viz-vilagnapja/
LOCATION:JMFK\, Baross Gábor u. 1\, Biatorbágy\, 2051\, Magyarország
CATEGORIES:Egyéb esemény
END:VEVENT
BEGIN:VEVENT
DTSTART;VALUE=DATE:20190330
DTEND;VALUE=DATE:20190331
DTSTAMP:20260421T093448
CREATED:20190224T142823Z
LAST-MODIFIED:20190224T145943Z
UID:867-1553904000-1553990399@efi.biatorbagy.hu
SUMMARY:Telki-Budajenő közös egészségnap
DESCRIPTION:
URL:https://efi.biatorbagy.hu/esemeny/telki-budajeno-kozos-egeszsegnap/
CATEGORIES:Egészségnap
END:VEVENT
END:VCALENDAR